BEGIN:VCALENDAR
VERSION:2.0
PRODID:-//Dry Cellar - ECPv6.15.17.1//NONSGML v1.0//EN
CALSCALE:GREGORIAN
METHOD:PUBLISH
X-WR-CALNAME:Dry Cellar
X-ORIGINAL-URL:https://www.drycellar.co
X-WR-CALDESC:Events for Dry Cellar
REFRESH-INTERVAL;VALUE=DURATION:PT1H
X-Robots-Tag:noindex
X-PUBLISHED-TTL:PT1H
BEGIN:VTIMEZONE
TZID:America/New_York
BEGIN:DAYLIGHT
TZOFFSETFROM:-0500
TZOFFSETTO:-0400
TZNAME:EDT
DTSTART:20240310T070000
END:DAYLIGHT
BEGIN:STANDARD
TZOFFSETFROM:-0400
TZOFFSETTO:-0500
TZNAME:EST
DTSTART:20241103T060000
END:STANDARD
BEGIN:DAYLIGHT
TZOFFSETFROM:-0500
TZOFFSETTO:-0400
TZNAME:EDT
DTSTART:20250309T070000
END:DAYLIGHT
BEGIN:STANDARD
TZOFFSETFROM:-0400
TZOFFSETTO:-0500
TZNAME:EST
DTSTART:20251102T060000
END:STANDARD
BEGIN:DAYLIGHT
TZOFFSETFROM:-0500
TZOFFSETTO:-0400
TZNAME:EDT
DTSTART:20260308T070000
END:DAYLIGHT
BEGIN:STANDARD
TZOFFSETFROM:-0400
TZOFFSETTO:-0500
TZNAME:EST
DTSTART:20261101T060000
END:STANDARD
END:VTIMEZONE
BEGIN:VEVENT
DTSTART;TZID=America/New_York:20250104T080000
DTEND;TZID=America/New_York:20250105T160000
DTSTAMP:20260422T022639
CREATED:20250105T005547Z
LAST-MODIFIED:20250105T005547Z
UID:1950-1735977600-1736092800@www.drycellar.co
SUMMARY:WINE WEEKEND Bianca D'or & Pinot Noir
DESCRIPTION:Free tasting event featuring two de-alcoholized wines. Available Saturday 11am-7pm and Sunday 12pm-4pm. \nPrima Pave ‘Bianca D’or’ (Italy)\nThe first still varietal produced by our best-selling maker of sparkling wines is 0.0% alcohol (Halal certified) white blend of Pinot Grigio and Gewurztraminer from the Friuli region. Bright and crisp with notes of stone fruit\, lychee\, and delicate floral notes–it finishes silky and dry. \nLeitz/Eins Zwei Zero Pinot Noir (Germany)\nRegarded as one of the truest-to-style dealcoholized red wines on the market. Juicy red fruits with lingering tannin and earthiness. \n 
URL:https://www.drycellar.co/event/wine-weekend-bianca-dor-pinot-noir/
LOCATION:Dry Cellar\, 33 Deer St. Suite 4A\, Portsmouth\, NH\, 03801\, United States
CATEGORIES:Tastings
END:VEVENT
END:VCALENDAR