BEGIN:VCALENDAR
VERSION:2.0
PRODID:-//Dry Cellar - ECPv6.15.17.1//NONSGML v1.0//EN
CALSCALE:GREGORIAN
METHOD:PUBLISH
X-ORIGINAL-URL:https://www.drycellar.co
X-WR-CALDESC:Events for Dry Cellar
REFRESH-INTERVAL;VALUE=DURATION:PT1H
X-Robots-Tag:noindex
X-PUBLISHED-TTL:PT1H
BEGIN:VTIMEZONE
TZID:America/New_York
BEGIN:DAYLIGHT
TZOFFSETFROM:-0500
TZOFFSETTO:-0400
TZNAME:EDT
DTSTART:20240310T070000
END:DAYLIGHT
BEGIN:STANDARD
TZOFFSETFROM:-0400
TZOFFSETTO:-0500
TZNAME:EST
DTSTART:20241103T060000
END:STANDARD
BEGIN:DAYLIGHT
TZOFFSETFROM:-0500
TZOFFSETTO:-0400
TZNAME:EDT
DTSTART:20250309T070000
END:DAYLIGHT
BEGIN:STANDARD
TZOFFSETFROM:-0400
TZOFFSETTO:-0500
TZNAME:EST
DTSTART:20251102T060000
END:STANDARD
BEGIN:DAYLIGHT
TZOFFSETFROM:-0500
TZOFFSETTO:-0400
TZNAME:EDT
DTSTART:20260308T070000
END:DAYLIGHT
BEGIN:STANDARD
TZOFFSETFROM:-0400
TZOFFSETTO:-0500
TZNAME:EST
DTSTART:20261101T060000
END:STANDARD
END:VTIMEZONE
BEGIN:VEVENT
DTSTART;TZID=America/New_York:20250109T110000
DTEND;TZID=America/New_York:20250109T180000
DTSTAMP:20260422T054529
CREATED:20250109T160211Z
LAST-MODIFIED:20250109T160211Z
UID:1954-1736420400-1736445600@www.drycellar.co
SUMMARY:Seedlip 'Notas de Agave' Tasting
DESCRIPTION:Seedlip was one of the very first NA botanical distillates on the NA scene. Their most recent expression\, Notas de Agave\, with flavors of prickly pear\, lime\, and agave\, is a lovely addition to sparkling waters\, grapefruit soda\, and anywhere you might typically utilize tequilas. This is not a tequila “dupe”–botanical distillates rarely are! Rather\, it is a refreshing alternative to that spirit with a very unique\, light flavor profile. \nAvailable as the featured tasting on Thursday 1/9 from 11am-6pm\, or while supplies last.
URL:https://www.drycellar.co/event/seedlip-notas-de-agave-tasting/
LOCATION:Dry Cellar\, 33 Deer St. Suite 4A\, Portsmouth\, NH\, 03801\, United States
CATEGORIES:Tastings
END:VEVENT
END:VCALENDAR